BEGIN:VCALENDAR
VERSION:2.0
PRODID:-//Beraca Baptist Church - ECPv6.15.20//NONSGML v1.0//EN
CALSCALE:GREGORIAN
METHOD:PUBLISH
X-WR-CALNAME:Beraca Baptist Church
X-ORIGINAL-URL:https://beracabaptist.org
X-WR-CALDESC:Events for Beraca Baptist Church
REFRESH-INTERVAL;VALUE=DURATION:PT1H
X-Robots-Tag:noindex
X-PUBLISHED-TTL:PT1H
BEGIN:VTIMEZONE
TZID:America/New_York
BEGIN:DAYLIGHT
TZOFFSETFROM:-0500
TZOFFSETTO:-0400
TZNAME:EDT
DTSTART:20170312T070000
END:DAYLIGHT
BEGIN:STANDARD
TZOFFSETFROM:-0400
TZOFFSETTO:-0500
TZNAME:EST
DTSTART:20171105T060000
END:STANDARD
BEGIN:DAYLIGHT
TZOFFSETFROM:-0500
TZOFFSETTO:-0400
TZNAME:EDT
DTSTART:20180311T070000
END:DAYLIGHT
BEGIN:STANDARD
TZOFFSETFROM:-0400
TZOFFSETTO:-0500
TZNAME:EST
DTSTART:20181104T060000
END:STANDARD
BEGIN:DAYLIGHT
TZOFFSETFROM:-0500
TZOFFSETTO:-0400
TZNAME:EDT
DTSTART:20190310T070000
END:DAYLIGHT
BEGIN:STANDARD
TZOFFSETFROM:-0400
TZOFFSETTO:-0500
TZNAME:EST
DTSTART:20191103T060000
END:STANDARD
END:VTIMEZONE
BEGIN:VEVENT
DTSTART;TZID=America/New_York:20181121T000000
DTEND;TZID=America/New_York:20181124T170000
DTSTAMP:20260422T113240
CREATED:20190806T212842Z
LAST-MODIFIED:20190806T222515Z
UID:10000067-1542758400-1543078800@beracabaptist.org
SUMMARY:Thanksgiving Retreat: Awesome God
DESCRIPTION:Discover exactly how great is our God though we live in a time of growing peril and unrest. Be comforted and encourage as we venture deeper in our foundation passage\, Deuteronomy 10:17\, with our Guest Speaker Pastor Wilner Cayo. \nFor more detailed information on reservations\, please contact the Thanksgiving Committee on prices and room availability. \nNote: Please do NOT make payments via the website unless you have been given the explicit directions to do so by the Thanksgiving Retreat Committee. Thank you for your cooperation.
URL:https://beracabaptist.org/event/thanksgiving-retreat-awesome-god/
LOCATION:Honor’s Haven Resort & Spa\, 1195 Arrowhead Rd\, Ellenville\, New York\, 12428\, United States
CATEGORIES:Retreat Ministry Calendar
ORGANIZER;CN="Beraca Baptist Church":MAILTO:beracabc@gmail.com
END:VEVENT
END:VCALENDAR